BEGIN:VCALENDAR
VERSION:2.0
PRODID:-// - ECPv6.15.20//NONSGML v1.0//EN
CALSCALE:GREGORIAN
METHOD:PUBLISH
X-ORIGINAL-URL:https://wichitaksnaacp.org
X-WR-CALDESC:Events for 
REFRESH-INTERVAL;VALUE=DURATION:PT1H
X-Robots-Tag:noindex
X-PUBLISHED-TTL:PT1H
BEGIN:VTIMEZONE
TZID:America/Chicago
BEGIN:DAYLIGHT
TZOFFSETFROM:-0600
TZOFFSETTO:-0500
TZNAME:CDT
DTSTART:20250309T080000
END:DAYLIGHT
BEGIN:STANDARD
TZOFFSETFROM:-0500
TZOFFSETTO:-0600
TZNAME:CST
DTSTART:20251102T070000
END:STANDARD
BEGIN:DAYLIGHT
TZOFFSETFROM:-0600
TZOFFSETTO:-0500
TZNAME:CDT
DTSTART:20260308T080000
END:DAYLIGHT
BEGIN:STANDARD
TZOFFSETFROM:-0500
TZOFFSETTO:-0600
TZNAME:CST
DTSTART:20261101T070000
END:STANDARD
BEGIN:DAYLIGHT
TZOFFSETFROM:-0600
TZOFFSETTO:-0500
TZNAME:CDT
DTSTART:20270314T080000
END:DAYLIGHT
BEGIN:STANDARD
TZOFFSETFROM:-0500
TZOFFSETTO:-0600
TZNAME:CST
DTSTART:20271107T070000
END:STANDARD
END:VTIMEZONE
BEGIN:VEVENT
DTSTART;TZID=America/Chicago:20260303T080000
DTEND;TZID=America/Chicago:20260303T190000
DTSTAMP:20260425T104336
CREATED:20260222T172054Z
LAST-MODIFIED:20260222T172054Z
UID:9623-1772524800-1772564400@wichitaksnaacp.org
SUMMARY:1% SALES TAX VOTE
DESCRIPTION:March 3\, 2026 – Election Date – Wichita’s Proposed 1% Sales Tax\nEarly In-Person Voting\nMonday through Friday\, February 17 – February 27\, 8am to 5pm\, and Monday\, March 2\, 8am to 12pm \n*Closed on Presidents Day Monday\, February 16th* \nSedgwick County Election Office \n510 N Main\, Suite 101 – Wichita\, KS 67203 \nCity of Wichita Voters \nSatellite Early In-Person Voting \nThursday\, February 26 – Friday\, February 27\, 10am to 6pm\, and Saturday\, February 28\, 9am to 1pm \nEvangel Presbyterian Church \n1545 S 135th St W – Wichita\, KS 67235 \nCity of Wichita Voters \nMachinist Building \n3830 S Meridian – Wichita\, KS 67217 \nCity of Wichita Voters \nMt Vernon Methodist Church \n5701 E Mt Vernon St – Wichita\, KS 67218 \nCity of Wichita Voters \nNorthside Church of Christ \n4545 N Meridian – Wichita\, KS 67204 \nCity of Wichita Voters \nProgressive Missionary Baptist Church \n2727 E 25th St N – Wichita\, KS 67219 \nCity of Wichita Voters \nReformation Lutheran Church \n7601 E 13th St N – Wichita\, KS 67206 \nCity of Wichita Voters \nSedgwick County Extension Office \n7001 W 21st St N – Wichita\, KS 67205 \nCity of Wichita Voters \nSt Andrew’s Lutheran Church \n2555 Hyacinth Ln – Wichita\, KS 67204 \nCity of Wichita Voters \nWoodland Lakes Community Church \n770 S Greenwich Rd – Wichita\, KS 67207 \nCity of Wichita Voters \nFriday\, February 27\, 10am to 6pm\, and Saturday\, February 28\, 9am to 1pm \nEastminster Presbyterian Church \n*Eastminster closed Thursday* \n1958 N Webb Rd – Wichita\, KS 67206 \nCity of Wichita Voters \n  \nSandra Rankin – Education Chair
URL:https://wichitaksnaacp.org/event/1-sales-tax-vote/
LOCATION:YOUR ASSIGNED VOTING LOCATION\, 67214
ATTACH;FMTTYPE=image/webp:https://wichitaksnaacp.org/wp-content/uploads/2026/02/Horz-Wichita-1-Percent-Sales-Tax-Vote.webp
END:VEVENT
END:VCALENDAR