BEGIN:VCALENDAR
VERSION:2.0
PRODID:-// - ECPv6.15.20//NONSGML v1.0//EN
CALSCALE:GREGORIAN
METHOD:PUBLISH
X-ORIGINAL-URL:https://wichitaksnaacp.org
X-WR-CALDESC:Events for 
REFRESH-INTERVAL;VALUE=DURATION:PT1H
X-Robots-Tag:noindex
X-PUBLISHED-TTL:PT1H
BEGIN:VTIMEZONE
TZID:America/Chicago
BEGIN:DAYLIGHT
TZOFFSETFROM:-0600
TZOFFSETTO:-0500
TZNAME:CDT
DTSTART:20240310T080000
END:DAYLIGHT
BEGIN:STANDARD
TZOFFSETFROM:-0500
TZOFFSETTO:-0600
TZNAME:CST
DTSTART:20241103T070000
END:STANDARD
BEGIN:DAYLIGHT
TZOFFSETFROM:-0600
TZOFFSETTO:-0500
TZNAME:CDT
DTSTART:20250309T080000
END:DAYLIGHT
BEGIN:STANDARD
TZOFFSETFROM:-0500
TZOFFSETTO:-0600
TZNAME:CST
DTSTART:20251102T070000
END:STANDARD
BEGIN:DAYLIGHT
TZOFFSETFROM:-0600
TZOFFSETTO:-0500
TZNAME:CDT
DTSTART:20260308T080000
END:DAYLIGHT
BEGIN:STANDARD
TZOFFSETFROM:-0500
TZOFFSETTO:-0600
TZNAME:CST
DTSTART:20261101T070000
END:STANDARD
END:VTIMEZONE
BEGIN:VTIMEZONE
TZID:Asia/Karachi
BEGIN:STANDARD
TZOFFSETFROM:+0500
TZOFFSETTO:+0500
TZNAME:PKT
DTSTART:20240101T000000
END:STANDARD
END:VTIMEZONE
BEGIN:VTIMEZONE
TZID:America/New_York
BEGIN:DAYLIGHT
TZOFFSETFROM:-0500
TZOFFSETTO:-0400
TZNAME:EDT
DTSTART:20240310T070000
END:DAYLIGHT
BEGIN:STANDARD
TZOFFSETFROM:-0400
TZOFFSETTO:-0500
TZNAME:EST
DTSTART:20241103T060000
END:STANDARD
BEGIN:DAYLIGHT
TZOFFSETFROM:-0500
TZOFFSETTO:-0400
TZNAME:EDT
DTSTART:20250309T070000
END:DAYLIGHT
BEGIN:STANDARD
TZOFFSETFROM:-0400
TZOFFSETTO:-0500
TZNAME:EST
DTSTART:20251102T060000
END:STANDARD
BEGIN:DAYLIGHT
TZOFFSETFROM:-0500
TZOFFSETTO:-0400
TZNAME:EDT
DTSTART:20260308T070000
END:DAYLIGHT
BEGIN:STANDARD
TZOFFSETFROM:-0400
TZOFFSETTO:-0500
TZNAME:EST
DTSTART:20261101T060000
END:STANDARD
END:VTIMEZONE
BEGIN:VTIMEZONE
TZID:UTC
BEGIN:STANDARD
TZOFFSETFROM:+0000
TZOFFSETTO:+0000
TZNAME:UTC
DTSTART:20180101T000000
END:STANDARD
END:VTIMEZONE
BEGIN:VEVENT
DTSTART;TZID=America/Chicago:20251213T100000
DTEND;TZID=America/Chicago:20251213T230000
DTSTAMP:20260425T103828
CREATED:20251127T220337Z
LAST-MODIFIED:20251127T221115Z
UID:9351-1765620000-1765666800@wichitaksnaacp.org
SUMMARY:BOOKS & BREAKFAST
DESCRIPTION:FREE BREAKFAST   &  BOOKS
URL:https://wichitaksnaacp.org/event/books-breakfast/
LOCATION:BUILD & REBUILD\, 1751 N Ash\, Wichita\, KS\, 67214\, United States
ATTACH;FMTTYPE=image/jpeg:https://wichitaksnaacp.org/wp-content/uploads/2025/11/588067200_2383225085474292_3343734588156277553_n.jpg
END:VEVENT
BEGIN:VEVENT
DTSTART;TZID=America/Chicago:20251213T100000
DTEND;TZID=America/Chicago:20251213T170000
DTSTAMP:20260425T103828
CREATED:20250313T145018Z
LAST-MODIFIED:20250313T145018Z
UID:9104-1765620000-1765645200@wichitaksnaacp.org
SUMMARY:WREATHS ACROSS AMERICA
DESCRIPTION:LAYING OF WREATHS ON VETERANS GRAVES
URL:https://wichitaksnaacp.org/event/wreaths-across-america/
LOCATION:MAPLE GROVE CEMETERY\, 1000 N Hillside\, Wichita\, KS\, 67214\, United States
END:VEVENT
BEGIN:VEVENT
DTSTART;TZID=America/Chicago:20251207T123000
DTEND;TZID=America/Chicago:20251207T150000
DTSTAMP:20260425T103828
CREATED:20251127T224634Z
LAST-MODIFIED:20251127T224634Z
UID:9371-1765110600-1765119600@wichitaksnaacp.org
SUMMARY:WENDELL SMITH SENIOR CITIZEN APPRECIATION LUNCHEON
DESCRIPTION:FREE TO ALL SENIORS (65+) GAMMA UPSILON  CHAPTER – OMEGA PSI PHI FRATERNITY INC.
URL:https://wichitaksnaacp.org/event/wendell-smith-senior-citizen-appreciation-luncheon/
LOCATION:WSU MARCUS WELCOME CENTER\, 1845 N Fairmont\, Wichita\, KS\, 67260\, United States
CATEGORIES:LUNCHEON
ATTACH;FMTTYPE=image/jpeg:https://wichitaksnaacp.org/wp-content/uploads/2025/11/OMEGA.jpg
END:VEVENT
BEGIN:VEVENT
DTSTART;TZID=America/Chicago:20251206T130000
DTEND;TZID=America/Chicago:20251206T150000
DTSTAMP:20260425T103828
CREATED:20251130T121532Z
LAST-MODIFIED:20251130T121532Z
UID:9593-1765026000-1765033200@wichitaksnaacp.org
SUMMARY:RENTERS CONCERN: TOWNHALL MEETING
DESCRIPTION:If you are in a rental unit or house and have Systemic concerns or issues that you would like to address\, we would like to hear from you. Your concerns will be used to build a campaign to get the city to better attune to your needs \nWICHITA BRANCH NAACP – CO-SPONSOR
URL:https://wichitaksnaacp.org/event/renters-concern-townhall-meeting/
LOCATION:THE CENTER\, 1914 E 11TH ST\, WICHITA\, KS\, 67214\, United States
CATEGORIES:COMMUNITY
ATTACH;FMTTYPE=image/jpeg:https://wichitaksnaacp.org/wp-content/uploads/2025/11/DECEMBER-2026-ICT-Flyer.jpg
END:VEVENT
BEGIN:VEVENT
DTSTART;TZID=America/Chicago:20251206T083000
DTEND;TZID=America/Chicago:20251206T120000
DTSTAMP:20260425T103828
CREATED:20251127T230522Z
LAST-MODIFIED:20251127T230522Z
UID:9379-1765009800-1765022400@wichitaksnaacp.org
SUMMARY:CARL G BREWER COMMUNITY CENTER GRAND OPENING
DESCRIPTION:JOIN US AS WE OPEN THE NEW CARL BREWER COMMUNITY CENTER \n(FORMERLY MCADAMS REC CENTER)
URL:https://wichitaksnaacp.org/event/carl-g-brewer-community-center-grand-opening/
LOCATION:McAdams Park\, 1329 E 13th St N\, Wichita\, KS\, 67214
CATEGORIES:KIDS & FAMILY
ATTACH;FMTTYPE=image/jpeg:https://wichitaksnaacp.org/wp-content/uploads/2025/11/589574508_1259474812885390_2202339563256037862_n.jpg
END:VEVENT
BEGIN:VEVENT
DTSTART;TZID=America/Chicago:20251204T100000
DTEND;TZID=America/Chicago:20251204T110000
DTSTAMP:20260425T103828
CREATED:20251128T160551Z
LAST-MODIFIED:20251128T160551Z
UID:9384-1764842400-1764846000@wichitaksnaacp.org
SUMMARY:HOME REPAIR INFORMATION SESSION
DESCRIPTION:Wichita Habitat for Humanity’s Home Repair Program partners with income-eligible homeowners experiencing critical interior and exterior issues that threaten the health\, safety\, and accessibility of their homes. These repairs can address deferred maintenance\, sudden damage\, or everyday wear and tear.\n\nJoin us for an informational session to explore options for repair assistance. Discover how to access zero-percent (0%) interest loans and grants\, and learn the steps to request support. We’ll also clearly explain the eligibility requirements essential for obtaining this assistance.\n\nRegister for this event: https://wichitahabitat.org/…/2025-12-04-home-repair…/\nRegistration is required.
URL:https://wichitaksnaacp.org/event/home-repair-information-session/
LOCATION:HABITAT FOR HUMANITY\, 2220 N OPPORTUNITY DR\, WICHITA\, KS\, 67214\, United States
CATEGORIES:FINACIAL
ATTACH;FMTTYPE=image/jpeg:https://wichitaksnaacp.org/wp-content/uploads/2025/11/habitat.jpg
END:VEVENT
BEGIN:VEVENT
DTSTART;TZID=America/Chicago:20251129T140000
DTEND;TZID=America/Chicago:20251129T170000
DTSTAMP:20260425T103828
CREATED:20251127T222424Z
LAST-MODIFIED:20251127T222424Z
UID:9363-1764424800-1764435600@wichitaksnaacp.org
SUMMARY:STORY OF A WICHITA NEIGHBORHOOD
DESCRIPTION:THE CHARLES & JOANNE MCILWAINE SPEAKER SERIES \nPRESENTED BY DONNA RAE PEARSON
URL:https://wichitaksnaacp.org/event/story-of-a-wichita-neighborhood/
LOCATION:SEDGWICK COUNTY HISTORICAL MUSEUM\, 204 S MAIN\, WICHITA\, KS\, 67202\, United States
ATTACH;FMTTYPE=image/jpeg:https://wichitaksnaacp.org/wp-content/uploads/2025/11/DONNA.jpg
END:VEVENT
BEGIN:VEVENT
DTSTART;TZID=America/Chicago:20251025T180000
DTEND;TZID=America/Chicago:20251025T230000
DTSTAMP:20260425T103828
CREATED:20250313T143811Z
LAST-MODIFIED:20250313T143811Z
UID:9099-1761415200-1761433200@wichitaksnaacp.org
SUMMARY:ANNUAL FREEDOM FUND BANQUET
DESCRIPTION:HONORING LOCAL COMMUNITY LEADERS- COST $75
URL:https://wichitaksnaacp.org/event/annual-freedom-fund-banquet/
LOCATION:Marriott Hotel\, 9100 corporate hills Dr.\, Wichita\, KS\, 67206\, United States
END:VEVENT
BEGIN:VEVENT
DTSTART;TZID=America/Chicago:20250724T080000
DTEND;TZID=America/Chicago:20250727T170000
DTSTAMP:20260425T103828
CREATED:20250313T143600Z
LAST-MODIFIED:20250313T143600Z
UID:9096-1753344000-1753635600@wichitaksnaacp.org
SUMMARY:NICODEMUS HOMECOMING
DESCRIPTION:Offer a DONATION:https://www.nicodemushomecoming.org/nicodemus-kansas…
URL:https://wichitaksnaacp.org/event/nicodemus-homecoming/
LOCATION:NICODEMUS\, NICODEMUS\, KS
END:VEVENT
BEGIN:VEVENT
DTSTART;TZID=America/Chicago:20250712T080000
DTEND;TZID=America/Chicago:20250716T233000
DTSTAMP:20260425T103828
CREATED:20250313T144518Z
LAST-MODIFIED:20250313T144518Z
UID:9101-1752307200-1752708600@wichitaksnaacp.org
SUMMARY:116th NAACP National Convention
DESCRIPTION:The NAACP National Convention is an empowering and immersive experience held each year to celebrate our community’s collective power. The Convention attracts innovative change-makers\, thought-leaders\, entrepreneurs\, scholars\, entertainers\, influencers\, and creatives to network and exchange ideas.
URL:https://wichitaksnaacp.org/event/116th-naacp-national-convention/
LOCATION:CHARLOTTE CONVENTION CENTER\, 501 S College St\, CHARLOTTE\, NC\, 28202
END:VEVENT
BEGIN:VEVENT
DTSTART;TZID=America/Chicago:20250530T080000
DTEND;TZID=America/Chicago:20250607T230000
DTSTAMP:20260425T103828
CREATED:20250313T143150Z
LAST-MODIFIED:20250313T143150Z
UID:9093-1748592000-1749337200@wichitaksnaacp.org
SUMMARY:RIVERFEST 2025
DESCRIPTION:9 DAYS OF FAMILY FUN
URL:https://wichitaksnaacp.org/event/riverfest-2025/
LOCATION:DOWNTOWN\, WICHITA\, KS
END:VEVENT
BEGIN:VEVENT
DTSTART;TZID=Asia/Karachi:20250413T120000
DTEND;TZID=Asia/Karachi:20250413T160000
DTSTAMP:20260425T103828
CREATED:20250313T145753Z
LAST-MODIFIED:20250313T145753Z
UID:9107-1744545600-1744560000@wichitaksnaacp.org
SUMMARY:ICT OPEN STREETS SHOCKER NEIGHBORHOOD
DESCRIPTION: an afternoon filled with fun\, connection\, and community engagement. We will again be closing the streets on 17th street from Oliver to Volutsia. \n\nNAACP WILL HAVE A VOTER REGISTRATION AND MEMBERSHIP BOOTH \nThis will be our third annual event\, and last year\, we were thrilled to see around 8\,000 residents\, neighbors\, and community members come out to enjoy the day. With over 90 vendors! Let’s make this year even bigger and better! This year\, we’re placing a special focus on youth opportunities within WSU and the community\, especially as we prepare for the summer. If you’re part of a youth-oriented organization\, we encourage you to think about creative and engaging ways to share your programs and services during the event. If you’d like to brainstorm ideas\, I’d be happy to connect!
URL:https://wichitaksnaacp.org/event/ict-open-streets-shocker-neighborhood/
LOCATION:17TH STREET – OLIVER TO VOLUTSIA\, 17TH STREET OLIVER TO VOLUTSIA\, WICHITA\, KS
END:VEVENT
BEGIN:VEVENT
DTSTART;TZID=America/Chicago:20250404T100000
DTEND;TZID=America/Chicago:20250406T170000
DTSTAMP:20260425T103828
CREATED:20250313T142041Z
LAST-MODIFIED:20250313T142041Z
UID:9084-1743760800-1743958800@wichitaksnaacp.org
SUMMARY:NAACP REGION 4 CRATI
DESCRIPTION:CIVIL RIGHTS ADVOCACY TRAINING an annual leadership conference designed to empower volunteer youth and adult leaders to influence the people and polices that impact their communities.
URL:https://wichitaksnaacp.org/event/naacp-region-4-crati/
LOCATION:Westin Cleveland\, 777 Saint Clair Avenue NE\, Cleveland\, OH\, 44114
END:VEVENT
BEGIN:VEVENT
DTSTART;TZID=America/Chicago:20250401T180000
DTEND;TZID=America/Chicago:20250401T200000
DTSTAMP:20260425T103828
CREATED:20250310T210144Z
LAST-MODIFIED:20250312T141230Z
UID:9030-1743530400-1743537600@wichitaksnaacp.org
SUMMARY:NAACP Executive Board Meeting - Monthly 1st Tuesday of the month
DESCRIPTION:Monthly Executive Board Meeting
URL:https://wichitaksnaacp.org/event/naacp-executive-board-meeting-monthly-1st-tuesday-of-the-month/
LOCATION:KS
END:VEVENT
BEGIN:VEVENT
DTSTART;TZID=America/Chicago:20250330T150000
DTEND;TZID=America/Chicago:20250330T180000
DTSTAMP:20260425T103828
CREATED:20250313T142619Z
LAST-MODIFIED:20250313T142619Z
UID:9087-1743346800-1743357600@wichitaksnaacp.org
SUMMARY:Harlem Globetrotters
DESCRIPTION:Witness the world-record-breaking\, trick-shot stars of basketball live as they bring their signature spins\, dunks\, and slams to the court\, taking on their determined rivals\, the Washington Generals. COST $25+ selectaseat.com/globetrotters25
URL:https://wichitaksnaacp.org/event/harlem-globetrotters/
LOCATION:Intrust Arena\, 500 E. Waterman\, WICHITA\, KS
END:VEVENT
BEGIN:VEVENT
DTSTART;TZID=America/Chicago:20250329T190000
DTEND;TZID=America/Chicago:20250329T220000
DTSTAMP:20260425T103828
CREATED:20250313T142903Z
LAST-MODIFIED:20250313T142903Z
UID:9090-1743274800-1743285600@wichitaksnaacp.org
SUMMARY:Chris “Kid” Reid
DESCRIPTION:Best known as half of late-1980s/early-1990s hip-hop musical act Kid ‘n Play\, Reid has been touring as a standup comedian for the past several years. Come see his hilarious comedy stylings at Vorshay’s for one weekend only. COST $25+
URL:https://wichitaksnaacp.org/event/chris-kid-reid/
LOCATION:Vorshay’s\, 417 E. Douglas\, WICHITA\, KS
END:VEVENT
BEGIN:VEVENT
DTSTART;TZID=America/Chicago:20250322T090000
DTEND;TZID=America/Chicago:20250322T120000
DTSTAMP:20260425T103828
CREATED:20250313T140851Z
LAST-MODIFIED:20250313T140851Z
UID:9081-1742634000-1742644800@wichitaksnaacp.org
SUMMARY:Brunch & Blooms
DESCRIPTION:Join us for brunch and connect with local growers & help you plan your garden for the year. FREE
URL:https://wichitaksnaacp.org/event/brunch-blooms/
LOCATION:Atwater Neighborhood City Hall\, 2755 E. 19th\, WICHITA\, KS
END:VEVENT
BEGIN:VEVENT
DTSTART;TZID=America/Chicago:20250321T100000
DTEND;TZID=America/Chicago:20250321T220000
DTSTAMP:20260425T103828
CREATED:20250313T140613Z
LAST-MODIFIED:20250313T140613Z
UID:9078-1742551200-1742594400@wichitaksnaacp.org
SUMMARY:FanFest\,
DESCRIPTION:The ultimate game-day experience. Catch all the tournament action LIVE on the digital board. Enjoy a rotating lineup of food trucks and a booze truck. Activities for All Ages – From interactive games to family fun\, there’s something for everyone to enjoy. Team Pep Rallies\, Live DJ & Event Coverage. FREE
URL:https://wichitaksnaacp.org/event/fanfest/
LOCATION:Naftzger Park\, 601 E. Douglas\, WICHITA\, KS
END:VEVENT
BEGIN:VEVENT
DTSTART;TZID=America/Chicago:20250320T100000
DTEND;TZID=America/Chicago:20250322T220000
DTSTAMP:20260425T103828
CREATED:20250313T140233Z
LAST-MODIFIED:20250313T140233Z
UID:9075-1742464800-1742680800@wichitaksnaacp.org
SUMMARY:ESPN Wichita Fan Zone
DESCRIPTION:The ultimate destination for basketball fans during March Madness. This event offers games on the big screen\, interactive activities\, giveaways\, and appearances by local sports personalities. Enjoy local restaurants\, music\, and an electric atmosphere. FREE
URL:https://wichitaksnaacp.org/event/espn-wichita-fan-zone/
LOCATION:Historic Union Station\, 701 E Douglas Ave\, wichita\, ks
END:VEVENT
BEGIN:VEVENT
DTSTART;TZID=America/Chicago:20250319T090000
DTEND;TZID=America/Chicago:20250319T150000
DTSTAMP:20260425T103828
CREATED:20250313T135846Z
LAST-MODIFIED:20250313T135846Z
UID:9073-1742374800-1742396400@wichitaksnaacp.org
SUMMARY:Wichita Education Advocate & Parent Rights Training
DESCRIPTION:This training is required for persons wishing to serve as an education advocate\, and for parents who wish to learn about their rights. Education Advocates “step into the role” of the parent in special education matters and advocate for the child/student. FREE must register https://bit.ly/4kBt4LU
URL:https://wichitaksnaacp.org/event/wichita-education-advocate-parent-rights-training/
LOCATION:WSU Metroplex\, 5015 E 29th\, WICHITA\, KS
END:VEVENT
BEGIN:VEVENT
DTSTART;TZID=America/Chicago:20250318T183000
DTEND;TZID=America/Chicago:20250321T183000
DTSTAMP:20260425T103828
CREATED:20250313T135610Z
LAST-MODIFIED:20250313T135610Z
UID:9070-1742322600-1742581800@wichitaksnaacp.org
SUMMARY:KSW Spring Workers Conference
DESCRIPTION:Join Kansas Southwest COGIC for a dynamic time of worship. With Supr. Donald Smith\, Bishop Herman Hicks\, Roy Hines\, and Mother Vicki Taylor. FREE
URL:https://wichitaksnaacp.org/event/ksw-spring-workers-conference/
LOCATION:St. Mark UMC\, 1018 N. Dellrose
END:VEVENT
BEGIN:VEVENT
DTSTART;TZID=America/Chicago:20250317T190000
DTEND;TZID=America/Chicago:20250317T213000
DTSTAMP:20260425T103828
CREATED:20250311T063531Z
LAST-MODIFIED:20250312T141323Z
UID:9065-1742238000-1742247000@wichitaksnaacp.org
SUMMARY:Antioch Missionary Baptist Church Revival
DESCRIPTION:. Guest Pastor: JD White\, Greater Olivet MBC\, Detroit FREE
URL:https://wichitaksnaacp.org/event/antioch-missionary-baptist-church-revival/
LOCATION:Antioch Missionary Baptist Church\, 1654 N. Matthewson\, WICHITA\, KS
END:VEVENT
BEGIN:VEVENT
DTSTART;TZID=America/New_York:20250315T130000
DTEND;TZID=America/New_York:20250315T170000
DTSTAMP:20260425T103828
CREATED:20250311T063038Z
LAST-MODIFIED:20250311T231615Z
UID:9062-1742043600-1742058000@wichitaksnaacp.org
SUMMARY:Navigating the National Archives
DESCRIPTION:Al presentation designed to help genealogists of all levels explore and access online catalog and databases of the National Archives and Records Administration (NARA). FREE
URL:https://wichitaksnaacp.org/event/navigating-the-national-archives/
LOCATION:Wichita Advanced Learning Library\, 711 W. 2nd St\, WICHITA\, KS
END:VEVENT
BEGIN:VEVENT
DTSTART;TZID=America/New_York:20250315T100000
DTEND;TZID=America/New_York:20250315T140000
DTSTAMP:20260425T103828
CREATED:20250311T054023Z
LAST-MODIFIED:20250311T231635Z
UID:9059-1742032800-1742047200@wichitaksnaacp.org
SUMMARY:Wichita Black Wellness Expo
DESCRIPTION:Some of the services include dental screenings\, blood pressure checks\, physicals\, elder care\, diabetes resources\, heart health\, suicide signs and prevention\, mental health awareness and resources\, maternal health\,  prenatal and newborn care\, yoga demonstrations\, and free giveaways to include children’s books.  FREE
URL:https://wichitaksnaacp.org/event/wichita-black-wellness-expo/
LOCATION:WSU Metroplex\, 5015 E 29th\, WICHITA\, KS
END:VEVENT
BEGIN:VEVENT
DTSTART;TZID=America/New_York:20250314T180000
DTEND;TZID=America/New_York:20250314T200000
DTSTAMP:20260425T103828
CREATED:20250311T053707Z
LAST-MODIFIED:20250311T231659Z
UID:9054-1741975200-1741982400@wichitaksnaacp.org
SUMMARY:Artist Kenna Green Closing Reception
DESCRIPTION:Artist Kenna Green Closing Reception  FREE
URL:https://wichitaksnaacp.org/event/artist-kenna-green-closing-reception/
LOCATION:Mulberry Art Gallery\, 2721 E. Central
END:VEVENT
BEGIN:VEVENT
DTSTART;TZID=America/New_York:20250314T180000
DTEND;TZID=America/New_York:20250314T200000
DTSTAMP:20260425T103828
CREATED:20250311T053206Z
LAST-MODIFIED:20250311T231721Z
UID:9050-1741975200-1741982400@wichitaksnaacp.org
SUMMARY:Drop-in Art Making
DESCRIPTION:Explore your creative side by turning discarded book pages into unique works of art. FREE
URL:https://wichitaksnaacp.org/event/drop-in-art-making/
LOCATION:WAM\, 1400 Museum Blvd\, Wichita\, KS\, United States
END:VEVENT
BEGIN:VEVENT
DTSTART;TZID=America/New_York:20250311T180000
DTEND;TZID=America/New_York:20250311T200000
DTSTAMP:20260425T103828
CREATED:20250310T212427Z
LAST-MODIFIED:20250311T231245Z
UID:9037-1741716000-1741723200@wichitaksnaacp.org
SUMMARY:NAACP General Membership Monthly Meeting
DESCRIPTION:Monthly Meeting – 2nd Tuesday of each month 6pm-8pm
URL:https://wichitaksnaacp.org/event/naacp-general-membership-monthly-meeting/
LOCATION:KS
END:VEVENT
BEGIN:VEVENT
DTSTART;TZID=UTC:20190629T180000
DTEND;TZID=UTC:20190629T210000
DTSTAMP:20260425T103828
CREATED:20190607T004657Z
LAST-MODIFIED:20190607T045100Z
UID:492-1561831200-1561842000@wichitaksnaacp.org
SUMMARY:Sunset Summerfest Music Festival
DESCRIPTION:The Wichita Branch NAACP has partnered with The City of Wichita and The Community Voice Newspaper to bring live\, free music to iconic McAdams Park!  Mark your calendars and plan to attend!  Saturday\, June 29th\, from 6-9 pm! \nSunsetSummerFest_2019June (1)
URL:https://wichitaksnaacp.org/event/sunset-summerfest-music-festival/
LOCATION:McAdams Park\, 1329 E 13th St N\, Wichita\, KS\, 67214
ATTACH;FMTTYPE=application/pdf:https://wichitaksnaacp.org/wp-content/uploads/2019/06/SunsetSummerFest_2019June-1-1.pdf
END:VEVENT
BEGIN:VEVENT
DTSTART;TZID=UTC:20190611T180000
DTEND;TZID=UTC:20190611T190000
DTSTAMP:20260425T103828
CREATED:20190607T001650Z
LAST-MODIFIED:20190607T001656Z
UID:487-1560276000-1560279600@wichitaksnaacp.org
SUMMARY:Police Chief Gordan Ramsey Overview on Upcoming Partnership with the Feds
DESCRIPTION:Wichita police join federal partnership to fight rise in violent crimes.   Chief Ramsey will be in attendance at the Wichita Branch NAACP general meeting to discuss what the partnership will mean to citizens of Wichita.  Please plan to attend the meeting scheduled on Tuesday\, June 11th @ 6p.m.; 2821 E 24th St North
URL:https://wichitaksnaacp.org/event/police-chief-gordan-ramsey-overview-on-upcoming-partnership-with-the-feds/
LOCATION:Wichita Branch NAACP\, 2821 E 24th N\, Wichita\, KS\, 67214\, United States
END:VEVENT
BEGIN:VEVENT
DTSTART;TZID=UTC:20190513T180000
DTEND;TZID=UTC:20190513T200000
DTSTAMP:20260425T103828
CREATED:20190510T021138Z
LAST-MODIFIED:20190510T021138Z
UID:466-1557770400-1557777600@wichitaksnaacp.org
SUMMARY:Direct Action Workshop
DESCRIPTION:Join the Wichita Branch of the NAACP and The African American Council of Elders on Monday\, May 13 from 6 to 8 pm at the Wichita State University\, Rhatigan Student Center in room 266 for the Direct Action workshop. Learn best practices and strategies on how to be effective at creating change. This workshop is hosted by Kevin Myles the Southeast Regional Field Director for the NAACP.
URL:https://wichitaksnaacp.org/event/direct-action-workshop/
LOCATION:Rhatigan Student Center\, 1845 Fairmount St\, Wichita\, KS\, 67260\, United States
END:VEVENT
END:VCALENDAR