BEGIN:VCALENDAR
VERSION:2.0
PRODID:-// - ECPv6.15.20//NONSGML v1.0//EN
CALSCALE:GREGORIAN
METHOD:PUBLISH
X-ORIGINAL-URL:https://wichitaksnaacp.org
X-WR-CALDESC:Events for 
REFRESH-INTERVAL;VALUE=DURATION:PT1H
X-Robots-Tag:noindex
X-PUBLISHED-TTL:PT1H
BEGIN:VTIMEZONE
TZID:America/Chicago
BEGIN:DAYLIGHT
TZOFFSETFROM:-0600
TZOFFSETTO:-0500
TZNAME:CDT
DTSTART:20240310T080000
END:DAYLIGHT
BEGIN:STANDARD
TZOFFSETFROM:-0500
TZOFFSETTO:-0600
TZNAME:CST
DTSTART:20241103T070000
END:STANDARD
BEGIN:DAYLIGHT
TZOFFSETFROM:-0600
TZOFFSETTO:-0500
TZNAME:CDT
DTSTART:20250309T080000
END:DAYLIGHT
BEGIN:STANDARD
TZOFFSETFROM:-0500
TZOFFSETTO:-0600
TZNAME:CST
DTSTART:20251102T070000
END:STANDARD
BEGIN:DAYLIGHT
TZOFFSETFROM:-0600
TZOFFSETTO:-0500
TZNAME:CDT
DTSTART:20260308T080000
END:DAYLIGHT
BEGIN:STANDARD
TZOFFSETFROM:-0500
TZOFFSETTO:-0600
TZNAME:CST
DTSTART:20261101T070000
END:STANDARD
BEGIN:DAYLIGHT
TZOFFSETFROM:-0600
TZOFFSETTO:-0500
TZNAME:CDT
DTSTART:20270314T080000
END:DAYLIGHT
BEGIN:STANDARD
TZOFFSETFROM:-0500
TZOFFSETTO:-0600
TZNAME:CST
DTSTART:20271107T070000
END:STANDARD
END:VTIMEZONE
BEGIN:VTIMEZONE
TZID:UTC
BEGIN:STANDARD
TZOFFSETFROM:+0000
TZOFFSETTO:+0000
TZNAME:UTC
DTSTART:20250101T000000
END:STANDARD
END:VTIMEZONE
BEGIN:VEVENT
DTSTART;TZID=America/Chicago:20251129T140000
DTEND;TZID=America/Chicago:20251129T170000
DTSTAMP:20260425T202107
CREATED:20251127T222424Z
LAST-MODIFIED:20251127T222424Z
UID:9363-1764424800-1764435600@wichitaksnaacp.org
SUMMARY:STORY OF A WICHITA NEIGHBORHOOD
DESCRIPTION:THE CHARLES & JOANNE MCILWAINE SPEAKER SERIES \nPRESENTED BY DONNA RAE PEARSON
URL:https://wichitaksnaacp.org/event/story-of-a-wichita-neighborhood/
LOCATION:SEDGWICK COUNTY HISTORICAL MUSEUM\, 204 S MAIN\, WICHITA\, KS\, 67202\, United States
ATTACH;FMTTYPE=image/jpeg:https://wichitaksnaacp.org/wp-content/uploads/2025/11/DONNA.jpg
END:VEVENT
BEGIN:VEVENT
DTSTART;TZID=America/Chicago:20251204T100000
DTEND;TZID=America/Chicago:20251204T110000
DTSTAMP:20260425T202107
CREATED:20251128T160551Z
LAST-MODIFIED:20251128T160551Z
UID:9384-1764842400-1764846000@wichitaksnaacp.org
SUMMARY:HOME REPAIR INFORMATION SESSION
DESCRIPTION:Wichita Habitat for Humanity’s Home Repair Program partners with income-eligible homeowners experiencing critical interior and exterior issues that threaten the health\, safety\, and accessibility of their homes. These repairs can address deferred maintenance\, sudden damage\, or everyday wear and tear.\n\nJoin us for an informational session to explore options for repair assistance. Discover how to access zero-percent (0%) interest loans and grants\, and learn the steps to request support. We’ll also clearly explain the eligibility requirements essential for obtaining this assistance.\n\nRegister for this event: https://wichitahabitat.org/…/2025-12-04-home-repair…/\nRegistration is required.
URL:https://wichitaksnaacp.org/event/home-repair-information-session/
LOCATION:HABITAT FOR HUMANITY\, 2220 N OPPORTUNITY DR\, WICHITA\, KS\, 67214\, United States
CATEGORIES:FINACIAL
ATTACH;FMTTYPE=image/jpeg:https://wichitaksnaacp.org/wp-content/uploads/2025/11/habitat.jpg
END:VEVENT
BEGIN:VEVENT
DTSTART;TZID=America/Chicago:20251206T083000
DTEND;TZID=America/Chicago:20251206T120000
DTSTAMP:20260425T202107
CREATED:20251127T230522Z
LAST-MODIFIED:20251127T230522Z
UID:9379-1765009800-1765022400@wichitaksnaacp.org
SUMMARY:CARL G BREWER COMMUNITY CENTER GRAND OPENING
DESCRIPTION:JOIN US AS WE OPEN THE NEW CARL BREWER COMMUNITY CENTER \n(FORMERLY MCADAMS REC CENTER)
URL:https://wichitaksnaacp.org/event/carl-g-brewer-community-center-grand-opening/
LOCATION:McAdams Park\, 1329 E 13th St N\, Wichita\, KS\, 67214
CATEGORIES:KIDS & FAMILY
ATTACH;FMTTYPE=image/jpeg:https://wichitaksnaacp.org/wp-content/uploads/2025/11/589574508_1259474812885390_2202339563256037862_n.jpg
END:VEVENT
BEGIN:VEVENT
DTSTART;TZID=America/Chicago:20251206T130000
DTEND;TZID=America/Chicago:20251206T150000
DTSTAMP:20260425T202107
CREATED:20251130T121532Z
LAST-MODIFIED:20251130T121532Z
UID:9593-1765026000-1765033200@wichitaksnaacp.org
SUMMARY:RENTERS CONCERN: TOWNHALL MEETING
DESCRIPTION:If you are in a rental unit or house and have Systemic concerns or issues that you would like to address\, we would like to hear from you. Your concerns will be used to build a campaign to get the city to better attune to your needs \nWICHITA BRANCH NAACP – CO-SPONSOR
URL:https://wichitaksnaacp.org/event/renters-concern-townhall-meeting/
LOCATION:THE CENTER\, 1914 E 11TH ST\, WICHITA\, KS\, 67214\, United States
CATEGORIES:COMMUNITY
ATTACH;FMTTYPE=image/jpeg:https://wichitaksnaacp.org/wp-content/uploads/2025/11/DECEMBER-2026-ICT-Flyer.jpg
END:VEVENT
BEGIN:VEVENT
DTSTART;TZID=America/Chicago:20251207T123000
DTEND;TZID=America/Chicago:20251207T150000
DTSTAMP:20260425T202107
CREATED:20251127T224634Z
LAST-MODIFIED:20251127T224634Z
UID:9371-1765110600-1765119600@wichitaksnaacp.org
SUMMARY:WENDELL SMITH SENIOR CITIZEN APPRECIATION LUNCHEON
DESCRIPTION:FREE TO ALL SENIORS (65+) GAMMA UPSILON  CHAPTER – OMEGA PSI PHI FRATERNITY INC.
URL:https://wichitaksnaacp.org/event/wendell-smith-senior-citizen-appreciation-luncheon/
LOCATION:WSU MARCUS WELCOME CENTER\, 1845 N Fairmont\, Wichita\, KS\, 67260\, United States
CATEGORIES:LUNCHEON
ATTACH;FMTTYPE=image/jpeg:https://wichitaksnaacp.org/wp-content/uploads/2025/11/OMEGA.jpg
END:VEVENT
BEGIN:VEVENT
DTSTART;TZID=America/Chicago:20251213T100000
DTEND;TZID=America/Chicago:20251213T170000
DTSTAMP:20260425T202107
CREATED:20250313T145018Z
LAST-MODIFIED:20250313T145018Z
UID:9104-1765620000-1765645200@wichitaksnaacp.org
SUMMARY:WREATHS ACROSS AMERICA
DESCRIPTION:LAYING OF WREATHS ON VETERANS GRAVES
URL:https://wichitaksnaacp.org/event/wreaths-across-america/
LOCATION:MAPLE GROVE CEMETERY\, 1000 N Hillside\, Wichita\, KS\, 67214\, United States
END:VEVENT
BEGIN:VEVENT
DTSTART;TZID=America/Chicago:20251213T100000
DTEND;TZID=America/Chicago:20251213T230000
DTSTAMP:20260425T202107
CREATED:20251127T220337Z
LAST-MODIFIED:20251127T221115Z
UID:9351-1765620000-1765666800@wichitaksnaacp.org
SUMMARY:BOOKS & BREAKFAST
DESCRIPTION:FREE BREAKFAST   &  BOOKS
URL:https://wichitaksnaacp.org/event/books-breakfast/
LOCATION:BUILD & REBUILD\, 1751 N Ash\, Wichita\, KS\, 67214\, United States
ATTACH;FMTTYPE=image/jpeg:https://wichitaksnaacp.org/wp-content/uploads/2025/11/588067200_2383225085474292_3343734588156277553_n.jpg
END:VEVENT
BEGIN:VEVENT
DTSTART;TZID=America/Chicago:20251214T160000
DTEND;TZID=America/Chicago:20251214T190000
DTSTAMP:20260425T202107
CREATED:20251127T221725Z
LAST-MODIFIED:20251127T221745Z
UID:9359-1765728000-1765738800@wichitaksnaacp.org
SUMMARY:DENNIS FAMILY 42ND ANNUAL CHRISTMAS CONCERT
DESCRIPTION:OUR PRESENT – ISAIAH 6:9 \nHIS PRESENCE – JOHN 1:14
URL:https://wichitaksnaacp.org/event/dennis-family-42nd-annual-christmas-concert/
LOCATION:ST JAMES MISSIONARY BAPTIST CHURCH\, 1350 N ASH\, WICHITA\, KS\, 67214\, United States
ATTACH;FMTTYPE=image/jpeg:https://wichitaksnaacp.org/wp-content/uploads/2025/11/DENNIS-FAMILY.jpg
END:VEVENT
BEGIN:VEVENT
DTSTART;TZID=America/Chicago:20251220T140000
DTEND;TZID=America/Chicago:20251220T170000
DTSTAMP:20260425T202107
CREATED:20251130T025750Z
LAST-MODIFIED:20251130T030256Z
UID:9587-1766239200-1766250000@wichitaksnaacp.org
SUMMARY:A CALL TO CARE FOR WOMEN: LEGACY & NEW BEGINNINGS
DESCRIPTION:Honoring Dr Arthur DeHart with guest speakers: Dr. Courtney Tafesse\, Dr Maya (Rolfe) Dominique & Dr Jaleen Sims with host Felicia Rolfe. Join us for an evening of legacy\, connection\, hope\, and new beginnings as we invest in our hometown\, honor those who paved the way\, and raise funds to support women across the U.S.\nBlack women are 3–4 times more likely to die during pregnancy. \nWe invite our entire community—women and men—to stand with us. Men are essential partners and voices in this work\, especially when women cannot advocate for themselves. We’re excited to reconnect with classmates\, friends\, and residents to explore how we can support and serve Wichita together. \nCome out as we honor Dr. Arthur DeHart\, enjoy hors d’oeuvres\, share honest conversations about women’s health\, and unite around a mission that matters more than ever. \nSilent auction — mini resource fair \nhttps://www.eventbrite.com/e/legacy-new-beginnings-tickets-1967880381194?aff=ebdsshcopyurl&utm-campaign=social&utm-content=attendeeshare&utm-medium=discovery&utm-term=&utm-share-source=mobile-search-results \n 
URL:https://wichitaksnaacp.org/event/a-call-to-care-for-women-legacy-new-beginnings/
LOCATION:Fairmount View\, 1655 N Fairmount\, Wichita\, KS\, 67208\, United States
ATTACH;FMTTYPE=image/jpeg:https://wichitaksnaacp.org/wp-content/uploads/2025/11/PRENATAL.jpg
END:VEVENT
BEGIN:VEVENT
DTSTART;TZID=America/Chicago:20251226T120000
DTEND;TZID=America/Chicago:20251226T143000
DTSTAMP:20260425T202107
CREATED:20251127T225810Z
LAST-MODIFIED:20251127T225810Z
UID:9375-1766750400-1766759400@wichitaksnaacp.org
SUMMARY:KWANZAA CELEBRATION
DESCRIPTION:HABARI GANI \nJOIN THE WICHITA AFRICAN AMERICAN COUNCIL OF ELDERS AS THEY CELEBRATE THE 1ST DAY OF KWANZAA 2025. \n2025 KUUMBA (CREATIVITY) SALAD \nTHE ELDERS PROVIDE THE GREENS = COMMUNITY BRINGS THEIR FAVORITE SALAD INGREDIENTS OR TOPPINGS TO SHARE. \nLET’S CREATE THE BEST KUUMBA SALAD EVER!!!
URL:https://wichitaksnaacp.org/event/kwanzaa-celebration/
LOCATION:THE CENTER\, 1914 E 11TH ST\, WICHITA\, KS\, 67214\, United States
CATEGORIES:KIDS & FAMILY
ATTACH;FMTTYPE=image/jpeg:https://wichitaksnaacp.org/wp-content/uploads/2025/11/KWANZAA.jpg
END:VEVENT
BEGIN:VEVENT
DTSTART;TZID=America/Chicago:20251227T190000
DTEND;TZID=America/Chicago:20251227T233000
DTSTAMP:20260425T202107
CREATED:20251127T223903Z
LAST-MODIFIED:20251127T223903Z
UID:9367-1766862000-1766878200@wichitaksnaacp.org
SUMMARY:ELEGANT AFFAIR 2
DESCRIPTION:A NIGHT WHERE GROWN ENERGY MEETS PURE SOPHISTICATION –  SO DRESS TO IMPRESS $35+ \nCALL 316 617-3251 FOR TICKET INFO
URL:https://wichitaksnaacp.org/event/elegant-affair-2/
LOCATION:HOLIDAY INN EAST\, 549 S ROCK RD\, WICHITA\, KS\, 67207\, United States
CATEGORIES:DANCE
ATTACH;FMTTYPE=image/jpeg:https://wichitaksnaacp.org/wp-content/uploads/2025/11/ELEGANT.jpg
END:VEVENT
BEGIN:VEVENT
DTSTART;TZID=America/Chicago:20260117T110000
DTEND;TZID=America/Chicago:20260117T130000
DTSTAMP:20260425T202107
CREATED:20251127T220833Z
LAST-MODIFIED:20251127T220833Z
UID:9354-1768647600-1768654800@wichitaksnaacp.org
SUMMARY:MLK COMMEMORATION & AWARDS LUNCHEON
DESCRIPTION:KEYNOT SPEAKER LARRY RANDLE\, JR
URL:https://wichitaksnaacp.org/event/mlk-commemoration-awards-luncheon/
LOCATION:WSU BEGGS BALLROOM\, 1845 N Fairmont\, Wichita\, KS\, 67260\, United States
ATTACH;FMTTYPE=image/jpeg:https://wichitaksnaacp.org/wp-content/uploads/2025/11/ALPHA.jpg
END:VEVENT
BEGIN:VEVENT
DTSTART;TZID=America/Chicago:20260221T090000
DTEND;TZID=America/Chicago:20260221T150000
DTSTAMP:20260425T202107
CREATED:20260218T023854Z
LAST-MODIFIED:20260218T023854Z
UID:9614-1771664400-1771686000@wichitaksnaacp.org
SUMMARY:HEART TO HEART
DESCRIPTION:HEALTH – HEALING – HOPE \nTCE SCREENING \nBLOOD DRIVE \nCPR TRAINING \nBLACK LIVES BLACK LUNG VIDEO & DISCUSSION \nMAMMOGRAMS \nSICKLE CELL AWARENESS \nFREE LUNCH WITH EDUCATION SESSION \nREGISTRATION REQUIRED
URL:https://wichitaksnaacp.org/event/heart-to-heart/
LOCATION:THE CENTER\, 1914 E 11TH ST\, WICHITA\, KS\, 67214\, United States
CATEGORIES:COMMUNITY,KIDS & FAMILY
ATTACH;FMTTYPE=image/jpeg:https://wichitaksnaacp.org/wp-content/uploads/2026/02/HEART.jpg
END:VEVENT
BEGIN:VEVENT
DTSTART;TZID=America/Chicago:20260221T170000
DTEND;TZID=America/Chicago:20260221T200000
DTSTAMP:20260425T202107
CREATED:20260218T022710Z
LAST-MODIFIED:20260218T022710Z
UID:9607-1771693200-1771704000@wichitaksnaacp.org
SUMMARY:NAACP FAMILY GAME NIGHT
DESCRIPTION:JOIN THE NAACP YOUTH FOR FAMILY GAME NIGHT. BRING FAMILY\, FRIENDS & NEIGHBORS.  CARD & BOARD GAMES\, PUZZLES\, PRIZES & SNACKS \n$5 PER PERSON OR 2 FOR THE PRICE OF ONE
URL:https://wichitaksnaacp.org/event/naacp-family-game-night/
LOCATION:BUILD & REBUILD\, 1751 N Ash\, Wichita\, KS\, 67214\, United States
CATEGORIES:COMMUNITY,KIDS & FAMILY
ATTACH;FMTTYPE=image/jpeg:https://wichitaksnaacp.org/wp-content/uploads/2026/02/youth-game-night.jpg
END:VEVENT
BEGIN:VEVENT
DTSTART;TZID=America/Chicago:20260222T150000
DTEND;TZID=America/Chicago:20260222T170000
DTSTAMP:20260425T202107
CREATED:20260218T023305Z
LAST-MODIFIED:20260218T023305Z
UID:9610-1771772400-1771779600@wichitaksnaacp.org
SUMMARY:4TH ANNUAL BLACK HISTORY MONTH CONCERT
DESCRIPTION:SPIRIT OF UNITY \nADULTS $15 \nCHILDREN $5 \nFAMILY (2 ADULTS & 3 CHILDREN UNDER 14)
URL:https://wichitaksnaacp.org/event/4th-annual-black-history-month-concert/
LOCATION:HOLY SAVIOR ACADEMY\, 1457 N CHAUTAUQUA\, WICHITA\, KS\, 67214
ATTACH;FMTTYPE=image/jpeg:https://wichitaksnaacp.org/wp-content/uploads/2026/02/HOLY-SAVIOR.jpg
END:VEVENT
BEGIN:VEVENT
DTSTART;TZID=America/Chicago:20260222T150000
DTEND;TZID=America/Chicago:20260222T170000
DTSTAMP:20260425T202107
CREATED:20260218T024148Z
LAST-MODIFIED:20260218T024148Z
UID:9617-1771772400-1771779600@wichitaksnaacp.org
SUMMARY:BLACK HISTORY MONTH CELEBRATION
DESCRIPTION:DOOR PRIZES – FAMILY FUN – TRIVIA – DINNER
URL:https://wichitaksnaacp.org/event/black-history-month-celebration/
LOCATION:CARL BREWER COMMUNITY CENTER\, 1329 E 16TH\, WICHITA\, KS\, 67214
CATEGORIES:KIDS & FAMILY,LUNCHEON
ATTACH;FMTTYPE=image/png:https://wichitaksnaacp.org/wp-content/uploads/2026/02/2026-Black-History-Final-Flyer.png
END:VEVENT
BEGIN:VEVENT
DTSTART;TZID=America/Chicago:20260228T080000
DTEND;TZID=America/Chicago:20260228T170000
DTSTAMP:20260425T202107
CREATED:20260218T025159Z
LAST-MODIFIED:20260218T025159Z
UID:9620-1772265600-1772298000@wichitaksnaacp.org
SUMMARY:BLACK BUSINESS TOUR
DESCRIPTION:STANDING ON BUSINESS – TAKE A TOUR OF SEVERAL BLACK BUSINESSES \n guided bus tour celebrating Black-owned businesses\, culture\, and community. Participants will visit a lineup of local Black-owned businesses\, meet the owners behind the brands\, and learn the stories shaping our city’s Black business ecosystem.\nThis year’s theme\, Standing on Business 365\, highlights the importance of supporting Black-owned businesses year-round\, not just during special moments. Enjoy shopping\, connection\, light refreshments\, and surprises along the way\, all at no cost thanks to our sponsors.\n Free with registration Transportation provided Kick-off at Cargill Protein Headquarters Staggered start times available\n  \nBUSES ARE FULL BUT YOU CAN TAG ALONG IN YOUR OWN VEHICLE \n 
URL:https://wichitaksnaacp.org/event/black-business-tour/
ATTACH;FMTTYPE=image/jpeg:https://wichitaksnaacp.org/wp-content/uploads/2026/02/black-tour.jpg
END:VEVENT
BEGIN:VEVENT
DTSTART;TZID=America/Chicago:20260228T160000
DTEND;TZID=America/Chicago:20260228T200000
DTSTAMP:20260425T202107
CREATED:20260218T022114Z
LAST-MODIFIED:20260218T022149Z
UID:9603-1772294400-1772308800@wichitaksnaacp.org
SUMMARY:BLACK EDUCATORS HALL OF FAME
DESCRIPTION:We’re getting closer to the 2026 Black Educators Hall of Fame Celebration presented by Art That Touches Your Heart! Join us as we honor legendary educators who have shaped lives and built futures in our community. \nHONOREES ARE: \nLORENZO O BRECKENRIDGE \nDR. JESSE WILLIAMS \nDR. KEVIN HARRISON \nJAMES E ANDERSON\, SR \nJOHN R CARTER \nPEARLIE MCCOY \nLATONYA KENNEDY \nGAYLE JACKSON \n 
URL:https://wichitaksnaacp.org/event/black-educators-hall-of-fame/
LOCATION:CARL BREWER COMMUNITY CENTER\, 1329 E 16TH\, WICHITA\, KS\, 67214
CATEGORIES:KIDS & FAMILY
ATTACH;FMTTYPE=image/jpeg:https://wichitaksnaacp.org/wp-content/uploads/2026/02/BLACK-EDUCATORS.jpg
END:VEVENT
BEGIN:VEVENT
DTSTART;TZID=America/Chicago:20260303T080000
DTEND;TZID=America/Chicago:20260303T190000
DTSTAMP:20260425T202107
CREATED:20260222T172054Z
LAST-MODIFIED:20260222T172054Z
UID:9623-1772524800-1772564400@wichitaksnaacp.org
SUMMARY:1% SALES TAX VOTE
DESCRIPTION:March 3\, 2026 – Election Date – Wichita’s Proposed 1% Sales Tax\nEarly In-Person Voting\nMonday through Friday\, February 17 – February 27\, 8am to 5pm\, and Monday\, March 2\, 8am to 12pm \n*Closed on Presidents Day Monday\, February 16th* \nSedgwick County Election Office \n510 N Main\, Suite 101 – Wichita\, KS 67203 \nCity of Wichita Voters \nSatellite Early In-Person Voting \nThursday\, February 26 – Friday\, February 27\, 10am to 6pm\, and Saturday\, February 28\, 9am to 1pm \nEvangel Presbyterian Church \n1545 S 135th St W – Wichita\, KS 67235 \nCity of Wichita Voters \nMachinist Building \n3830 S Meridian – Wichita\, KS 67217 \nCity of Wichita Voters \nMt Vernon Methodist Church \n5701 E Mt Vernon St – Wichita\, KS 67218 \nCity of Wichita Voters \nNorthside Church of Christ \n4545 N Meridian – Wichita\, KS 67204 \nCity of Wichita Voters \nProgressive Missionary Baptist Church \n2727 E 25th St N – Wichita\, KS 67219 \nCity of Wichita Voters \nReformation Lutheran Church \n7601 E 13th St N – Wichita\, KS 67206 \nCity of Wichita Voters \nSedgwick County Extension Office \n7001 W 21st St N – Wichita\, KS 67205 \nCity of Wichita Voters \nSt Andrew’s Lutheran Church \n2555 Hyacinth Ln – Wichita\, KS 67204 \nCity of Wichita Voters \nWoodland Lakes Community Church \n770 S Greenwich Rd – Wichita\, KS 67207 \nCity of Wichita Voters \nFriday\, February 27\, 10am to 6pm\, and Saturday\, February 28\, 9am to 1pm \nEastminster Presbyterian Church \n*Eastminster closed Thursday* \n1958 N Webb Rd – Wichita\, KS 67206 \nCity of Wichita Voters \n  \nSandra Rankin – Education Chair
URL:https://wichitaksnaacp.org/event/1-sales-tax-vote/
LOCATION:YOUR ASSIGNED VOTING LOCATION\, 67214
ATTACH;FMTTYPE=image/webp:https://wichitaksnaacp.org/wp-content/uploads/2026/02/Horz-Wichita-1-Percent-Sales-Tax-Vote.webp
END:VEVENT
BEGIN:VEVENT
DTSTART;TZID=America/Chicago:20260514T080000
DTEND;TZID=America/Chicago:20260616T220000
DTSTAMP:20260425T202107
CREATED:20260222T175108Z
LAST-MODIFIED:20260222T175108Z
UID:9638-1778745600-1781647200@wichitaksnaacp.org
SUMMARY:BLACK WALL STREET RALLY
DESCRIPTION:Join us in the historic Greenwood District — the legendary Black Wall Street — for a powerful 3-day celebration of culture\, community\, pride\, entrepreneurship\, and inspiration.\n\n\nWhether you ride a motorcycle or not\, this event welcomes EVERYONE. Come feel the energy… the unity… the spirit that continues to uplift generations.\n\n\n Expect:\n• Inspiring community connections\n• Live entertainment & vendors\n• Entrepreneur showcases\n• Family-friendly experiences\n• A celebration of heritage & resilience\n• And memories you’ll carry for years\n\n\nYou’ll leave enriched. Empowered. Inspired.\nBecause the Black Wall Street Rally is more than an event — it’s a movement.\n\n\n Register & secure lodging:\nwww.BlackWallStreetRally.com\nhttps://blackwallstreetrally.com/lodging/
URL:https://wichitaksnaacp.org/event/black-wall-street-rally/
LOCATION:TULSA WALL STREET DISTRICT
ATTACH;FMTTYPE=image/png:https://wichitaksnaacp.org/wp-content/uploads/2026/02/BLACK-WALL-STREET.png
END:VEVENT
BEGIN:VEVENT
DTSTART;TZID=America/Chicago:20260523T190000
DTEND;TZID=America/Chicago:20260523T233000
DTSTAMP:20260425T202107
CREATED:20260222T174429Z
LAST-MODIFIED:20260222T174429Z
UID:9634-1779562800-1779579000@wichitaksnaacp.org
SUMMARY:123rd annual Historic Boley Rodeo
DESCRIPTION:Held over Memorial Weekend\, the event features bull riding\, barrel racing\, and family-friendly entertainment\, with tickets currently on sale.  \nTickets are currently on sale through various vendors\, with prices ranging from approximately $20 to over $60. 
URL:https://wichitaksnaacp.org/event/123rd-annual-historic-boley-rodeo/
LOCATION:Boley Rodeo Arena (Boley Park)\, W Rodeo Cir\, Boley\, OK\, 74829
ATTACH;FMTTYPE=image/jpeg:https://wichitaksnaacp.org/wp-content/uploads/2026/02/BOLEY.jpeg
END:VEVENT
BEGIN:VEVENT
DTSTART;TZID=America/Chicago:20260718T080000
DTEND;TZID=America/Chicago:20260722T170000
DTSTAMP:20260425T202107
CREATED:20260222T172755Z
LAST-MODIFIED:20260222T172755Z
UID:9627-1784361600-1784739600@wichitaksnaacp.org
SUMMARY:117th NAACP National Convention
DESCRIPTION:In Chicago\, Illinois. The event will be hosted at the McCormick Place West Building. This convention marks a historic 100-year return to the city\, as Chicago hosted the NAACP’s first national convention in June 1926.  \n\nExpected Attendance: Approximately 10\,000 visitors are expected to attend the gathering.\nAssociated Events: The National ACT-SO Competition will precede and overlap with the convention\, taking place from July 15 – 19\, 2026. \nNAACP +4\n\n\n\nRegistration & Planning\n\nRegistration Opening: Official registration for delegates and alternates is scheduled to open in April 2026.\nHousing: Hotel blocks and housing reservations are expected to open in March 2026.\nImportant Deadlines: The deadline to assign names to group housing blocks is May 29\, 2026\, with a general reservation cut-off date starting June 28\, 2026.\nInquiries: Further updates can be found on the official NAACP Convention website. \n\n\nHost Hotels\nSpecific hotels have been designated for different attendee groups to provide discounted rates:\n\nACT-SO Host Hotel: Marriott Marquis Chicago.\nYouth & College Hotels: Hampton Inn & Suites McCormick Place and Hilton Garden Inn McCormick Place. \nNAACP
URL:https://wichitaksnaacp.org/event/117th-naacp-national-convention/
LOCATION:McCormick Place West Building\, 2317 S Indiana Ave\, Chicago\, IL\, 60616
ATTACH;FMTTYPE=image/jpeg:https://wichitaksnaacp.org/wp-content/uploads/2026/02/NATIONAL-CONVENTION.jpeg
END:VEVENT
BEGIN:VEVENT
DTSTART;TZID=UTC:20260730T080000
DTEND;TZID=UTC:20260802T170000
DTSTAMP:20260425T202107
CREATED:20260222T173826Z
LAST-MODIFIED:20260222T173826Z
UID:9631-1785398400-1785690000@wichitaksnaacp.org
SUMMARY:NICODEMUS HOMECOMING EMANCIPATION CELEBRATION
DESCRIPTION:This annual event\, also known as the “Journey of Triumph\,” honors the history of the oldest and only remaining Black settlement west of the Mississippi River.  \nNational Park Service (.gov) +3\n\n\nKey Event Details\n\nParade: The 148th Homecoming Parade is set for Saturday\, August 1st\, 2026\, starting at 11:00 AM. Registration for parade participants typically opens in January 2026.\nLocation: Most activities center around the township hall and roadside park in Nicodemus\, Kansas.\nTypical Activities: Based on tradition\, the weekend includes a free cowboy breakfast\, cornhole tournaments\, musical concerts\, storytelling\, church services\, and a fashion/talent show.\nSignificance: The celebration commemorates the town’s founding in 1877 and the emancipation of enslaved people\, often drawing hundreds of descendants from across the country. \nNicodemus Kansas Homecoming +5\n\n\n\nPlanning Your Visit\n\nAccommodations: Because the town has a very small permanent population (approx. 20 residents)\, visitors often stay in nearby towns like Hill City or Stockton.\nOfficial Updates: You can monitor the Nicodemus Kansas Homecoming website or their Facebook page for the full 2026 schedule as it is finalized.\nSupport: The event is organized by the Nicodemus Homecoming Emancipation Celebration\, LLC
URL:https://wichitaksnaacp.org/event/nicodemus-homecoming-emancipation-celebration/
LOCATION:NICODEMUS\, NICODEMUS\, KS
ATTACH;FMTTYPE=image/jpeg:https://wichitaksnaacp.org/wp-content/uploads/2026/02/NICODEMUS.jpg
END:VEVENT
END:VCALENDAR