BEGIN:VCALENDAR
VERSION:2.0
PRODID:-// - ECPv6.15.20//NONSGML v1.0//EN
CALSCALE:GREGORIAN
METHOD:PUBLISH
X-ORIGINAL-URL:https://wichitaksnaacp.org
X-WR-CALDESC:Events for 
REFRESH-INTERVAL;VALUE=DURATION:PT1H
X-Robots-Tag:noindex
X-PUBLISHED-TTL:PT1H
BEGIN:VTIMEZONE
TZID:America/Chicago
BEGIN:DAYLIGHT
TZOFFSETFROM:-0600
TZOFFSETTO:-0500
TZNAME:CDT
DTSTART:20250309T080000
END:DAYLIGHT
BEGIN:STANDARD
TZOFFSETFROM:-0500
TZOFFSETTO:-0600
TZNAME:CST
DTSTART:20251102T070000
END:STANDARD
BEGIN:DAYLIGHT
TZOFFSETFROM:-0600
TZOFFSETTO:-0500
TZNAME:CDT
DTSTART:20260308T080000
END:DAYLIGHT
BEGIN:STANDARD
TZOFFSETFROM:-0500
TZOFFSETTO:-0600
TZNAME:CST
DTSTART:20261101T070000
END:STANDARD
BEGIN:DAYLIGHT
TZOFFSETFROM:-0600
TZOFFSETTO:-0500
TZNAME:CDT
DTSTART:20270314T080000
END:DAYLIGHT
BEGIN:STANDARD
TZOFFSETFROM:-0500
TZOFFSETTO:-0600
TZNAME:CST
DTSTART:20271107T070000
END:STANDARD
END:VTIMEZONE
BEGIN:VTIMEZONE
TZID:UTC
BEGIN:STANDARD
TZOFFSETFROM:+0000
TZOFFSETTO:+0000
TZNAME:UTC
DTSTART:20250101T000000
END:STANDARD
END:VTIMEZONE
BEGIN:VEVENT
DTSTART;TZID=America/Chicago:20260514T080000
DTEND;TZID=America/Chicago:20260616T220000
DTSTAMP:20260425T072134
CREATED:20260222T175108Z
LAST-MODIFIED:20260222T175108Z
UID:9638-1778745600-1781647200@wichitaksnaacp.org
SUMMARY:BLACK WALL STREET RALLY
DESCRIPTION:Join us in the historic Greenwood District — the legendary Black Wall Street — for a powerful 3-day celebration of culture\, community\, pride\, entrepreneurship\, and inspiration.\n\n\nWhether you ride a motorcycle or not\, this event welcomes EVERYONE. Come feel the energy… the unity… the spirit that continues to uplift generations.\n\n\n Expect:\n• Inspiring community connections\n• Live entertainment & vendors\n• Entrepreneur showcases\n• Family-friendly experiences\n• A celebration of heritage & resilience\n• And memories you’ll carry for years\n\n\nYou’ll leave enriched. Empowered. Inspired.\nBecause the Black Wall Street Rally is more than an event — it’s a movement.\n\n\n Register & secure lodging:\nwww.BlackWallStreetRally.com\nhttps://blackwallstreetrally.com/lodging/
URL:https://wichitaksnaacp.org/event/black-wall-street-rally/
LOCATION:TULSA WALL STREET DISTRICT
ATTACH;FMTTYPE=image/png:https://wichitaksnaacp.org/wp-content/uploads/2026/02/BLACK-WALL-STREET.png
END:VEVENT
BEGIN:VEVENT
DTSTART;TZID=America/Chicago:20260523T190000
DTEND;TZID=America/Chicago:20260523T233000
DTSTAMP:20260425T072134
CREATED:20260222T174429Z
LAST-MODIFIED:20260222T174429Z
UID:9634-1779562800-1779579000@wichitaksnaacp.org
SUMMARY:123rd annual Historic Boley Rodeo
DESCRIPTION:Held over Memorial Weekend\, the event features bull riding\, barrel racing\, and family-friendly entertainment\, with tickets currently on sale.  \nTickets are currently on sale through various vendors\, with prices ranging from approximately $20 to over $60. 
URL:https://wichitaksnaacp.org/event/123rd-annual-historic-boley-rodeo/
LOCATION:Boley Rodeo Arena (Boley Park)\, W Rodeo Cir\, Boley\, OK\, 74829
ATTACH;FMTTYPE=image/jpeg:https://wichitaksnaacp.org/wp-content/uploads/2026/02/BOLEY.jpeg
END:VEVENT
BEGIN:VEVENT
DTSTART;TZID=America/Chicago:20260718T080000
DTEND;TZID=America/Chicago:20260722T170000
DTSTAMP:20260425T072134
CREATED:20260222T172755Z
LAST-MODIFIED:20260222T172755Z
UID:9627-1784361600-1784739600@wichitaksnaacp.org
SUMMARY:117th NAACP National Convention
DESCRIPTION:In Chicago\, Illinois. The event will be hosted at the McCormick Place West Building. This convention marks a historic 100-year return to the city\, as Chicago hosted the NAACP’s first national convention in June 1926.  \n\nExpected Attendance: Approximately 10\,000 visitors are expected to attend the gathering.\nAssociated Events: The National ACT-SO Competition will precede and overlap with the convention\, taking place from July 15 – 19\, 2026. \nNAACP +4\n\n\n\nRegistration & Planning\n\nRegistration Opening: Official registration for delegates and alternates is scheduled to open in April 2026.\nHousing: Hotel blocks and housing reservations are expected to open in March 2026.\nImportant Deadlines: The deadline to assign names to group housing blocks is May 29\, 2026\, with a general reservation cut-off date starting June 28\, 2026.\nInquiries: Further updates can be found on the official NAACP Convention website. \n\n\nHost Hotels\nSpecific hotels have been designated for different attendee groups to provide discounted rates:\n\nACT-SO Host Hotel: Marriott Marquis Chicago.\nYouth & College Hotels: Hampton Inn & Suites McCormick Place and Hilton Garden Inn McCormick Place. \nNAACP
URL:https://wichitaksnaacp.org/event/117th-naacp-national-convention/
LOCATION:McCormick Place West Building\, 2317 S Indiana Ave\, Chicago\, IL\, 60616
ATTACH;FMTTYPE=image/jpeg:https://wichitaksnaacp.org/wp-content/uploads/2026/02/NATIONAL-CONVENTION.jpeg
END:VEVENT
BEGIN:VEVENT
DTSTART;TZID=UTC:20260730T080000
DTEND;TZID=UTC:20260802T170000
DTSTAMP:20260425T072134
CREATED:20260222T173826Z
LAST-MODIFIED:20260222T173826Z
UID:9631-1785398400-1785690000@wichitaksnaacp.org
SUMMARY:NICODEMUS HOMECOMING EMANCIPATION CELEBRATION
DESCRIPTION:This annual event\, also known as the “Journey of Triumph\,” honors the history of the oldest and only remaining Black settlement west of the Mississippi River.  \nNational Park Service (.gov) +3\n\n\nKey Event Details\n\nParade: The 148th Homecoming Parade is set for Saturday\, August 1st\, 2026\, starting at 11:00 AM. Registration for parade participants typically opens in January 2026.\nLocation: Most activities center around the township hall and roadside park in Nicodemus\, Kansas.\nTypical Activities: Based on tradition\, the weekend includes a free cowboy breakfast\, cornhole tournaments\, musical concerts\, storytelling\, church services\, and a fashion/talent show.\nSignificance: The celebration commemorates the town’s founding in 1877 and the emancipation of enslaved people\, often drawing hundreds of descendants from across the country. \nNicodemus Kansas Homecoming +5\n\n\n\nPlanning Your Visit\n\nAccommodations: Because the town has a very small permanent population (approx. 20 residents)\, visitors often stay in nearby towns like Hill City or Stockton.\nOfficial Updates: You can monitor the Nicodemus Kansas Homecoming website or their Facebook page for the full 2026 schedule as it is finalized.\nSupport: The event is organized by the Nicodemus Homecoming Emancipation Celebration\, LLC
URL:https://wichitaksnaacp.org/event/nicodemus-homecoming-emancipation-celebration/
LOCATION:NICODEMUS\, NICODEMUS\, KS
ATTACH;FMTTYPE=image/jpeg:https://wichitaksnaacp.org/wp-content/uploads/2026/02/NICODEMUS.jpg
END:VEVENT
END:VCALENDAR