BEGIN:VCALENDAR
VERSION:2.0
PRODID:-// - ECPv6.15.20//NONSGML v1.0//EN
CALSCALE:GREGORIAN
METHOD:PUBLISH
X-ORIGINAL-URL:https://wichitaksnaacp.org
X-WR-CALDESC:Events for 
REFRESH-INTERVAL;VALUE=DURATION:PT1H
X-Robots-Tag:noindex
X-PUBLISHED-TTL:PT1H
BEGIN:VTIMEZONE
TZID:America/Chicago
BEGIN:DAYLIGHT
TZOFFSETFROM:-0600
TZOFFSETTO:-0500
TZNAME:CDT
DTSTART:20250309T080000
END:DAYLIGHT
BEGIN:STANDARD
TZOFFSETFROM:-0500
TZOFFSETTO:-0600
TZNAME:CST
DTSTART:20251102T070000
END:STANDARD
BEGIN:DAYLIGHT
TZOFFSETFROM:-0600
TZOFFSETTO:-0500
TZNAME:CDT
DTSTART:20260308T080000
END:DAYLIGHT
BEGIN:STANDARD
TZOFFSETFROM:-0500
TZOFFSETTO:-0600
TZNAME:CST
DTSTART:20261101T070000
END:STANDARD
BEGIN:DAYLIGHT
TZOFFSETFROM:-0600
TZOFFSETTO:-0500
TZNAME:CDT
DTSTART:20270314T080000
END:DAYLIGHT
BEGIN:STANDARD
TZOFFSETFROM:-0500
TZOFFSETTO:-0600
TZNAME:CST
DTSTART:20271107T070000
END:STANDARD
END:VTIMEZONE
BEGIN:VEVENT
DTSTART;TZID=America/Chicago:20260222T150000
DTEND;TZID=America/Chicago:20260222T170000
DTSTAMP:20260425T141020
CREATED:20260218T023305Z
LAST-MODIFIED:20260218T023305Z
UID:9610-1771772400-1771779600@wichitaksnaacp.org
SUMMARY:4TH ANNUAL BLACK HISTORY MONTH CONCERT
DESCRIPTION:SPIRIT OF UNITY \nADULTS $15 \nCHILDREN $5 \nFAMILY (2 ADULTS & 3 CHILDREN UNDER 14)
URL:https://wichitaksnaacp.org/event/4th-annual-black-history-month-concert/
LOCATION:HOLY SAVIOR ACADEMY\, 1457 N CHAUTAUQUA\, WICHITA\, KS\, 67214
ATTACH;FMTTYPE=image/jpeg:https://wichitaksnaacp.org/wp-content/uploads/2026/02/HOLY-SAVIOR.jpg
END:VEVENT
BEGIN:VEVENT
DTSTART;TZID=America/Chicago:20260222T150000
DTEND;TZID=America/Chicago:20260222T170000
DTSTAMP:20260425T141020
CREATED:20260218T024148Z
LAST-MODIFIED:20260218T024148Z
UID:9617-1771772400-1771779600@wichitaksnaacp.org
SUMMARY:BLACK HISTORY MONTH CELEBRATION
DESCRIPTION:DOOR PRIZES – FAMILY FUN – TRIVIA – DINNER
URL:https://wichitaksnaacp.org/event/black-history-month-celebration/
LOCATION:CARL BREWER COMMUNITY CENTER\, 1329 E 16TH\, WICHITA\, KS\, 67214
CATEGORIES:KIDS & FAMILY,LUNCHEON
ATTACH;FMTTYPE=image/png:https://wichitaksnaacp.org/wp-content/uploads/2026/02/2026-Black-History-Final-Flyer.png
END:VEVENT
END:VCALENDAR